{
 "currentVersion": 11.1,
 "serviceDescription": "Particulate matter minor than 10 µm (aerosol) 1 year 90.41 percentile",
 "name": "AQModelViewer/AQ_5_P1Y_P1D_per90_41",
 "description": "Particulate matter minor than 10 µm (aerosol) 1 year 90.41 percentile",
 "extent": {
  "xmin": 1487162.3202,
  "ymin": 5687344.031400003,
  "xmax": 1847312.3202,
  "ymax": 5922454.031400003,
  "spatialReference": {
   "wkid": 102100,
   "latestWkid": 3857
  }
 },
 "initialExtent": {
  "xmin": 1487162.3202,
  "ymin": 5687344.031400003,
  "xmax": 1847312.3202,
  "ymax": 5922454.031400003,
  "spatialReference": {
   "wkid": 102100,
   "latestWkid": 3857
  }
 },
 "fullExtent": {
  "xmin": 1487162.3202,
  "ymin": 5687344.031400003,
  "xmax": 1847312.3202,
  "ymax": 5922454.031400003,
  "spatialReference": {
   "wkid": 102100,
   "latestWkid": 3857
  }
 },
 "sortableFields": "",
 "bandCount": 1,
 "pixelType": "F64",
 "minValues": [
  1.3133649826049805
 ],
 "maxValues": [
  50.23587417602539
 ],
 "meanValues": [
  23.698125701202436
 ],
 "stdvValues": [
  8.962270311243742
 ],
 "hasMultidimensions": false,
 "timeInfo": {
  "startTimeField": "YEAR",
  "endTimeField": "YEAR",
  "timeExtent": [
   1577836800000,
   1640995200000
  ],
  "timeReference": null
 },
 "pixelSizeX": 30,
 "pixelSizeY": 30,
 "datasetFormat": "AMD",
 "uncompressedSize": 752665480,
 "blockWidth": 2048,
 "blockHeight": 256,
 "compressionType": "None",
 "bandNames": [
  "Band_1"
 ],
 "allowCopy": true,
 "allowAnalysis": true,
 "itemAccess": false,
 "minPixelSize": 0,
 "maxPixelSize": 0,
 "copyrightText": "",
 "serviceDataType": "esriImageServiceDataTypeGeneric",
 "serviceSourceType": "esriImageServiceSourceTypeMosaicDataset",
 "objectIdField": "OBJECTID",
 "fields": [
  {
   "name": "OBJECTID",
   "type": "esriFieldTypeOID",
   "alias": "OBJECTID",
   "domain": null
  },
  {
   "name": "Shape",
   "type": "esriFieldTypeGeometry",
   "alias": "Shape",
   "domain": null
  },
  {
   "name": "Name",
   "type": "esriFieldTypeString",
   "alias": "Name",
   "domain": null,
   "length": 200
  },
  {
   "name": "MinPS",
   "type": "esriFieldTypeDouble",
   "alias": "MinPS",
   "domain": null
  },
  {
   "name": "MaxPS",
   "type": "esriFieldTypeDouble",
   "alias": "MaxPS",
   "domain": null
  },
  {
   "name": "LowPS",
   "type": "esriFieldTypeDouble",
   "alias": "LowPS",
   "domain": null
  },
  {
   "name": "HighPS",
   "type": "esriFieldTypeDouble",
   "alias": "HighPS",
   "domain": null
  },
  {
   "name": "Category",
   "type": "esriFieldTypeInteger",
   "alias": "Category",
   "domain": {
    "type": "codedValue",
    "name": "MosaicCatalogItemCategoryDomain",
    "description": "Catalog item categories.",
    "codedValues": [
     {
      "name": "Unknown",
      "code": 0
     },
     {
      "name": "Primary",
      "code": 1
     },
     {
      "name": "Overview",
      "code": 2
     },
     {
      "name": "Unprocessed Overview",
      "code": 3
     },
     {
      "name": "Partial Overview",
      "code": 4
     },
     {
      "name": "Inactive",
      "code": 5
     },
     {
      "name": "Uploaded",
      "code": 253
     },
     {
      "name": "Incomplete",
      "code": 254
     },
     {
      "name": "Custom",
      "code": 255
     }
    ],
    "mergePolicy": "esriMPTDefaultValue",
    "splitPolicy": "esriSPTDefaultValue"
   }
  },
  {
   "name": "Tag",
   "type": "esriFieldTypeString",
   "alias": "Tag",
   "domain": null,
   "length": 100
  },
  {
   "name": "GroupName",
   "type": "esriFieldTypeString",
   "alias": "GroupName",
   "domain": null,
   "length": 100
  },
  {
   "name": "ProductName",
   "type": "esriFieldTypeString",
   "alias": "ProductName",
   "domain": null,
   "length": 100
  },
  {
   "name": "CenterX",
   "type": "esriFieldTypeDouble",
   "alias": "CenterX",
   "domain": null
  },
  {
   "name": "CenterY",
   "type": "esriFieldTypeDouble",
   "alias": "CenterY",
   "domain": null
  },
  {
   "name": "ZOrder",
   "type": "esriFieldTypeInteger",
   "alias": "ZOrder",
   "domain": null
  },
  {
   "name": "Shape_Length",
   "type": "esriFieldTypeDouble",
   "alias": "Shape_Length",
   "domain": null
  },
  {
   "name": "Shape_Area",
   "type": "esriFieldTypeDouble",
   "alias": "Shape_Area",
   "domain": null
  },
  {
   "name": "year",
   "type": "esriFieldTypeDate",
   "alias": "year",
   "domain": null,
   "length": 8
  },
  {
   "name": "pollutant",
   "type": "esriFieldTypeInteger",
   "alias": "pollutant",
   "domain": null
  },
  {
   "name": "agg",
   "type": "esriFieldTypeString",
   "alias": "agg",
   "domain": null,
   "length": 50
  },
  {
   "name": "pollutant_desc",
   "type": "esriFieldTypeString",
   "alias": "pollutant_desc",
   "domain": null,
   "length": 100
  },
  {
   "name": "agg_desc",
   "type": "esriFieldTypeString",
   "alias": "agg_desc",
   "domain": null,
   "length": 150
  },
  {
   "name": "model",
   "type": "esriFieldTypeString",
   "alias": "model",
   "domain": null,
   "length": 100
  },
  {
   "name": "countryCode",
   "type": "esriFieldTypeString",
   "alias": "countryCode",
   "domain": null,
   "length": 6
  },
  {
   "name": "envelope",
   "type": "esriFieldTypeString",
   "alias": "envelope",
   "domain": null,
   "length": 255
  }
 ],
 "capabilities": "Catalog,Mensuration,Image,Metadata",
 "defaultMosaicMethod": "Northwest",
 "allowedMosaicMethods": "NorthWest,Center,LockRaster,ByAttribute,Nadir,Viewpoint,Seamline,None",
 "sortField": "",
 "sortValue": null,
 "sortAscending": true,
 "mosaicOperator": "First",
 "maxDownloadSizeLimit": 2048,
 "defaultCompressionQuality": 80,
 "defaultResamplingMethod": "Bilinear",
 "maxImageHeight": 4100,
 "maxImageWidth": 15000,
 "maxRecordCount": 1000,
 "maxDownloadImageCount": 20,
 "maxMosaicImageCount": 20,
 "allowRasterFunction": true,
 "rasterFunctionInfos": [
  {
   "name": "5_P1Y_P1D_per90_41",
   "description": "A raster function template.",
   "help": ""
  },
  {
   "name": "Blues continues",
   "description": "Blues continues represent ozone",
   "help": ""
  },
  {
   "name": "Oranges continues",
   "description": "Oragnes continues represent NO2",
   "help": ""
  },
  {
   "name": "Purple to green",
   "description": "purple to green continues",
   "help": ""
  },
  {
   "name": "Red to yellow to green",
   "description": "red - yellow -green",
   "help": ""
  },
  {
   "name": "Yellow to orange to brown",
   "description": "yellow orange brown colors",
   "help": ""
  },
  {
   "name": "Yellow to red",
   "description": "yellow to red",
   "help": ""
  },
  {
   "name": "None",
   "description": "Make a Raster or Raster Dataset into a Function Raster Dataset.",
   "help": ""
  }
 ],
 "rasterTypeInfos": [
  {
   "name": "Raster Dataset",
   "description": "Supports all ArcGIS Raster Datasets",
   "help": ""
  }
 ],
 "mensurationCapabilities": "Basic",
 "hasHistograms": true,
 "hasColormap": false,
 "hasRasterAttributeTable": false,
 "minScale": 0,
 "maxScale": 0,
 "exportTilesAllowed": false,
 "supportsStatistics": true,
 "supportsAdvancedQueries": true,
 "editFieldsInfo": null,
 "ownershipBasedAccessControlForRasters": null,
 "allowComputeTiePoints": false,
 "useStandardizedQueries": false,
 "advancedQueryCapabilities": {
  "useStandardizedQueries": false,
  "supportsStatistics": true,
  "supportsOrderBy": true,
  "supportsDistinct": true,
  "supportsPagination": true
 },
 "spatialReference": {
  "wkid": 102100,
  "latestWkid": 3857
 }
}
