{
 "currentVersion": 11.5,
 "serviceDescription": "The map shows the 3 years annual average concentration (2019-2021) of O3\n\nAt the ground level, ozone (O\u2083) is a hazardous air pollutant commonly found in our cities. It can negatively affect our health by causing respiratory symptoms and aggravating preexisting conditions \u2014 particularly on hot, sunny days when ozone concentrations can peak. The map below shows a measure called SOMO35 for the period 2018-2020; SOMO35 is an indicator that reflects the frequency and intensity of dangerous ozone peaks.",
 "name": "EnvHealthAtlas/O3_avg3",
 "description": "The map shows the 3 years annual average concentration (2019-2021) of O3\n\nAt the ground level, ozone (O\u2083) is a hazardous air pollutant commonly found in our cities. It can negatively affect our health by causing respiratory symptoms and aggravating preexisting conditions \u2014 particularly on hot, sunny days when ozone concentrations can peak. The map below shows a measure called SOMO35 for the period 2018-2020; SOMO35 is an indicator that reflects the frequency and intensity of dangerous ozone peaks.",
 "extent": {
  "xmin": 2635500,
  "ymin": 1385500,
  "xmax": 6562500,
  "ymax": 5415500,
  "spatialReference": {
   "wkid": 3035,
   "latestWkid": 3035
  }
 },
 "initialExtent": {
  "xmin": 2635500,
  "ymin": 1385500,
  "xmax": 6562500,
  "ymax": 5415500,
  "spatialReference": {
   "wkid": 3035,
   "latestWkid": 3035
  }
 },
 "fullExtent": {
  "xmin": 2635500,
  "ymin": 1385500,
  "xmax": 6562500,
  "ymax": 5415500,
  "spatialReference": {
   "wkid": 3035,
   "latestWkid": 3035
  }
 },
 "sortableFields": "",
 "bandCount": 1,
 "pixelType": "F64",
 "minValues": [
  984.8
 ],
 "maxValues": [
  13232.1
 ],
 "meanValues": [
  4514.116128092021
 ],
 "stdvValues": [
  1880.8955720347394
 ],
 "serviceProperties": "Center<\/MosaicMethod>First<\/MosaicOperator>true<\/SortAscending><\/LockImageID><\/TileOrderField>0<\/TileOrderBase>0.000000<\/AvgImageSpacingX>0.000000<\/AvgImageSpacingY>0.0<\/ViewPointX>0.0<\/ViewPointY>0.0<\/ViewPointDefShiftX>0.0<\/ViewPointDefShiftY>None<\/CompressionMethod>75<\/CompressionQuality>0.010000<\/CompressionTolerance>Nearest<\/SamplingMethod><\/ImageServiceProperties><\/ImageServer>",
 "allowedFields": "",
 "hasMultidimensions": false,
 "pixelSizeX": 1000,
 "pixelSizeY": 1000,
 "meanPixelSize": 1000,
 "datasetFormat": "FGDBR",
 "uncompressedSize": 126606480,
 "blockWidth": 128,
 "blockHeight": 128,
 "compressionType": "NONE",
 "bandNames": [
  "Band_1"
 ],
 "allowCopy": true,
 "allowAnalysis": true,
 "itemAccess": false,
 "inspectionCapabilities": "",
 "minPixelSize": 0,
 "maxPixelSize": 0,
 "copyrightText": "© European Environment Agency",
 "serviceDataType": "esriImageServiceDataTypeGeneric",
 "serviceSourceType": "esriImageServiceSourceTypeDataset",
 "objectIdField": "",
 "fields": [],
 "capabilities": "Mensuration,Image,Metadata",
 "defaultMosaicMethod": "Center",
 "allowedMosaicMethods": "",
 "sortField": "",
 "sortValue": null,
 "sortAscending": true,
 "mosaicOperator": "First",
 "defaultCompressionQuality": 75,
 "defaultResamplingMethod": "Nearest",
 "maxImageHeight": 4100,
 "maxImageWidth": 15000,
 "allowRasterFunction": true,
 "rasterFunctionInfos": [
  {
   "name": "Ozone Annual average concentration",
   "description": "Ozone Annual average concentration",
   "help": "Ozone Annual average concentration"
  },
  {
   "name": "None",
   "description": "",
   "help": ""
  }
 ],
 "rasterTypeInfos": [
  {
   "name": "Raster Dataset",
   "description": "Supports all ArcGIS Raster Datasets",
   "help": ""
  }
 ],
 "mensurationCapabilities": "Basic",
 "hasHistograms": true,
 "hasColormap": false,
 "hasRasterAttributeTable": false,
 "minScale": 0,
 "maxScale": 0,
 "exportTilesAllowed": false,
 "supportsStatistics": false,
 "supportsAdvancedQueries": false,
 "editFieldsInfo": null,
 "ownershipBasedAccessControlForRasters": null,
 "allowComputeTiePoints": false,
 "useStandardizedQueries": false,
 "advancedQueryCapabilities": {
  "useStandardizedQueries": false,
  "supportsStatistics": false,
  "supportsOrderBy": false,
  "supportsDistinct": false,
  "supportsPagination": false
 },
 "spatialReference": {
  "wkid": 3035,
  "latestWkid": 3035
 },
 "resampling": false
}
