{
 "currentVersion": 11.5,
 "serviceDescription": "The indicator on the morphological structure of forests has been obtained with the application of the modelling tool namely GUIDOS toolbox (Vogt, 2013), within the forest coverage of Carpathians area obtained from the PALSAR-2 forest/ non-forest map (ALOS-2/ALOS, Earth Observation Research Center, JAXA).\n\nThe resulting map provides with the calculation of a Morphological Spatial Pattern Analysis (MSPA) which determines the geometry and connectivity of the forest areas in the KEO. Several parameters can be calculated using this tool including the core area of forests, the islets within forests, the loop areas within a forest (being the areas that are connected from different sides to the same forest core area), the bridges within forests (being connected to forest core from different places and to different core areas within a forest), the forest perforation being the internal foreground forest perimeter, and the forest edge being the external foreground forest perimeter, and the forest branches being connected to any of the previous morphological parameters but not to the core of a forest.\n\nMore details on the creation of this indicator are available in the final report \"ETCULS1835_RegionalCoperation_CarpathiansReport.pdf\".\nThe document \"ForestFragmentation.docx\" also available for download provides additional information on the quality assurance checks performed on the dataset.\n\nReferences:\nVogt, P. (2013). GUIDOS: tools for the assessment of pattern, connectivity, and fragmentation. Geophysical\nResearch Abstracts, 15.",
 "name": "FISE/forest_fragm_keo_2015",
 "description": "The indicator on the morphological structure of forests has been obtained with the application of the modelling tool namely GUIDOS toolbox (Vogt, 2013), within the forest coverage of Carpathians area obtained from the PALSAR-2 forest/ non-forest map (ALOS-2/ALOS, Earth Observation Research Center, JAXA).\n\nThe resulting map provides with the calculation of a Morphological Spatial Pattern Analysis (MSPA) which determines the geometry and connectivity of the forest areas in the KEO. Several parameters can be calculated using this tool including the core area of forests, the islets within forests, the loop areas within a forest (being the areas that are connected from different sides to the same forest core area), the bridges within forests (being connected to forest core from different places and to different core areas within a forest), the forest perforation being the internal foreground forest perimeter, and the forest edge being the external foreground forest perimeter, and the forest branches being connected to any of the previous morphological parameters but not to the core of a forest.\n\nMore details on the creation of this indicator are available in the final report \"ETCULS1835_RegionalCoperation_CarpathiansReport.pdf\".\nThe document \"ForestFragmentation.docx\" also available for download provides additional information on the quality assurance checks performed on the dataset.\n\nReferences:\nVogt, P. (2013). GUIDOS: tools for the assessment of pattern, connectivity, and fragmentation. Geophysical\nResearch Abstracts, 15.",
 "extent": {
  "xmin": 900000,
  "ymin": 900000,
  "xmax": 7400000,
  "ymax": 5500000,
  "spatialReference": {
   "wkid": 3035,
   "latestWkid": 3035
  }
 },
 "initialExtent": {
  "xmin": 900000,
  "ymin": 900000,
  "xmax": 7400000,
  "ymax": 5500000,
  "spatialReference": {
   "wkid": 3035,
   "latestWkid": 3035
  }
 },
 "fullExtent": {
  "xmin": 900000,
  "ymin": 900000,
  "xmax": 7400000,
  "ymax": 5500000,
  "spatialReference": {
   "wkid": 3035,
   "latestWkid": 3035
  }
 },
 "sortableFields": "",
 "bandCount": 1,
 "pixelType": "U8",
 "minValues": [
  1
 ],
 "maxValues": [
  8
 ],
 "meanValues": [
  3.412447821536858
 ],
 "stdvValues": [
  2.8423053779969987
 ],
 "serviceProperties": "Center<\/MosaicMethod>First<\/MosaicOperator>true<\/SortAscending><\/LockImageID><\/TileOrderField>0<\/TileOrderBase>0.000000<\/AvgImageSpacingX>0.000000<\/AvgImageSpacingY>0.0<\/ViewPointX>0.0<\/ViewPointY>0.0<\/ViewPointDefShiftX>0.0<\/ViewPointDefShiftY>None<\/CompressionMethod>75<\/CompressionQuality>0.010000<\/CompressionTolerance>Bilinear<\/SamplingMethod><\/ImageServiceProperties><\/ImageServer>",
 "allowedFields": "",
 "hasMultidimensions": false,
 "pixelSizeX": 100,
 "pixelSizeY": 100,
 "meanPixelSize": 100,
 "datasetFormat": "FGDBR",
 "uncompressedSize": 2990000000,
 "blockWidth": 128,
 "blockHeight": 128,
 "compressionType": "LZ77",
 "bandNames": [
  "Band_1"
 ],
 "allowCopy": true,
 "allowAnalysis": true,
 "itemAccess": false,
 "inspectionCapabilities": "",
 "minPixelSize": 0,
 "maxPixelSize": 0,
 "copyrightText": "Secretariat of Carpathian Convention; Member States of the Carpathian Convention; European Topic Centre Digitalisation and Innovation; European Environment Agency (EEA)",
 "serviceDataType": "esriImageServiceDataTypeGeneric",
 "serviceSourceType": "esriImageServiceSourceTypeDataset",
 "objectIdField": "",
 "fields": [],
 "capabilities": "Mensuration,Image,Metadata",
 "defaultMosaicMethod": "Center",
 "allowedMosaicMethods": "",
 "sortField": "",
 "sortValue": null,
 "sortAscending": true,
 "mosaicOperator": "First",
 "defaultCompressionQuality": 75,
 "defaultResamplingMethod": "Bilinear",
 "maxImageHeight": 4100,
 "maxImageWidth": 15000,
 "allowRasterFunction": true,
 "rasterFunctionInfos": [
  {
   "name": "None",
   "description": "",
   "help": ""
  }
 ],
 "rasterTypeInfos": [
  {
   "name": "Raster Dataset",
   "description": "Supports all ArcGIS Raster Datasets",
   "help": ""
  }
 ],
 "mensurationCapabilities": "Basic",
 "hasHistograms": true,
 "hasColormap": false,
 "hasRasterAttributeTable": true,
 "minScale": 0,
 "maxScale": 0,
 "exportTilesAllowed": false,
 "supportsStatistics": false,
 "supportsAdvancedQueries": false,
 "editFieldsInfo": null,
 "ownershipBasedAccessControlForRasters": null,
 "allowComputeTiePoints": false,
 "useStandardizedQueries": false,
 "advancedQueryCapabilities": {
  "useStandardizedQueries": false,
  "supportsStatistics": false,
  "supportsOrderBy": false,
  "supportsDistinct": false,
  "supportsPagination": false
 },
 "spatialReference": {
  "wkid": 3035,
  "latestWkid": 3035
 },
 "resampling": false
}
