{
 "currentVersion": 11.5,
 "serviceDescription": "In this calculation on Carpathian region, the species of interest were selected from the distribution maps from the European Forest Inventory (Brus, et al., 2011), grouped following the spatial distribution provided by (Barbati et al., 2013) and divided by percentage of available forest obtained from the PALSAR-2 forest/ non-forest map (ALOS-2/ALOS, Earth Observation Research Center, JAXA).\nMore details on the creation of this indicator are available in the final report \"ETCULS1835_RegionalCoperation_CarpathiansReport.pdf\".\nThe document \"ForestN.docx\" available for download provides information about the quality checks performed on the dataset.\nReferences:\nDeveloping a forest naturalness indicator for Europe. Concept and methodology for a high nature value (HNV) forest indicator (EEA Technical report No 13/2014) available on https://www.eea.europa.eu/publications/developing-a-forest-naturalness-indicator.",
 "name": "FISE/naturalness_species_keo_2011",
 "description": "In this calculation on Carpathian region, the species of interest were selected from the distribution maps from the European Forest Inventory (Brus, et al., 2011), grouped following the spatial distribution provided by (Barbati et al., 2013) and divided by percentage of available forest obtained from the PALSAR-2 forest/ non-forest map (ALOS-2/ALOS, Earth Observation Research Center, JAXA).\nMore details on the creation of this indicator are available in the final report \"ETCULS1835_RegionalCoperation_CarpathiansReport.pdf\".\nThe document \"ForestN.docx\" available for download provides information about the quality checks performed on the dataset.\nReferences:\nDeveloping a forest naturalness indicator for Europe. Concept and methodology for a high nature value (HNV) forest indicator (EEA Technical report No 13/2014) available on https://www.eea.europa.eu/publications/developing-a-forest-naturalness-indicator.",
 "extent": {
  "xmin": 4755216.139146464,
  "ymin": 2295476.7747515626,
  "xmax": 5664216.139146464,
  "ymax": 3120476.7747515626,
  "spatialReference": {
   "wkid": 3035,
   "latestWkid": 3035
  }
 },
 "initialExtent": {
  "xmin": 4755216.139146464,
  "ymin": 2295476.7747515626,
  "xmax": 5664216.139146464,
  "ymax": 3120476.7747515626,
  "spatialReference": {
   "wkid": 3035,
   "latestWkid": 3035
  }
 },
 "fullExtent": {
  "xmin": 4755216.139146464,
  "ymin": 2295476.7747515626,
  "xmax": 5664216.139146464,
  "ymax": 3120476.7747515626,
  "spatialReference": {
   "wkid": 3035,
   "latestWkid": 3035
  }
 },
 "sortableFields": "",
 "bandCount": 1,
 "pixelType": "F32",
 "minValues": [
  0
 ],
 "maxValues": [
  1
 ],
 "meanValues": [
  0.21855938501853
 ],
 "stdvValues": [
  0.24462476690202
 ],
 "serviceProperties": "Center<\/MosaicMethod>First<\/MosaicOperator>true<\/SortAscending><\/LockImageID><\/TileOrderField>0<\/TileOrderBase>0.000000<\/AvgImageSpacingX>0.000000<\/AvgImageSpacingY>0.0<\/ViewPointX>0.0<\/ViewPointY>0.0<\/ViewPointDefShiftX>0.0<\/ViewPointDefShiftY>None<\/CompressionMethod>75<\/CompressionQuality>0.010000<\/CompressionTolerance>Nearest<\/SamplingMethod><\/ImageServiceProperties><\/ImageServer>",
 "allowedFields": "",
 "hasMultidimensions": false,
 "pixelSizeX": 1000,
 "pixelSizeY": 1000,
 "meanPixelSize": 1000,
 "datasetFormat": "TIFF",
 "uncompressedSize": 2999700,
 "blockWidth": 128,
 "blockHeight": 128,
 "compressionType": "None",
 "bandNames": [
  "Band_1"
 ],
 "allowCopy": true,
 "allowAnalysis": true,
 "itemAccess": false,
 "inspectionCapabilities": "",
 "noDataValue": -3.4028234663852886E38,
 "noDataValues": [
  -3.4028234663852886E38
 ],
 "minPixelSize": 0,
 "maxPixelSize": 0,
 "copyrightText": "Secretariat of Carpathian Convention; Member States of the Carpathian Convention; European Topic Centre Digitalisation and Innovation; European Environment Agency (EEA)",
 "serviceDataType": "esriImageServiceDataTypeGeneric",
 "serviceSourceType": "esriImageServiceSourceTypeDataset",
 "objectIdField": "",
 "fields": [],
 "capabilities": "Mensuration,Image,Metadata",
 "defaultMosaicMethod": "Center",
 "allowedMosaicMethods": "",
 "sortField": "",
 "sortValue": null,
 "sortAscending": true,
 "mosaicOperator": "First",
 "defaultCompressionQuality": 75,
 "defaultResamplingMethod": "Nearest",
 "maxImageHeight": 4100,
 "maxImageWidth": 15000,
 "allowRasterFunction": true,
 "rasterFunctionInfos": [
  {
   "name": "None",
   "description": "Make a Raster or Raster Dataset into a Function Raster Dataset.",
   "help": ""
  }
 ],
 "rasterTypeInfos": [
  {
   "name": "Raster Dataset",
   "description": "Supports all ArcGIS Raster Datasets",
   "help": ""
  }
 ],
 "mensurationCapabilities": "Basic",
 "hasHistograms": true,
 "hasColormap": false,
 "hasRasterAttributeTable": false,
 "minScale": 0,
 "maxScale": 0,
 "exportTilesAllowed": false,
 "supportsStatistics": false,
 "supportsAdvancedQueries": false,
 "editFieldsInfo": null,
 "ownershipBasedAccessControlForRasters": null,
 "allowComputeTiePoints": false,
 "useStandardizedQueries": false,
 "advancedQueryCapabilities": {
  "useStandardizedQueries": false,
  "supportsStatistics": false,
  "supportsOrderBy": false,
  "supportsDistinct": false,
  "supportsPagination": false
 },
 "spatialReference": {
  "wkid": 3035,
  "latestWkid": 3035
 },
 "resampling": false
}
