View In:
ArcGIS JavaScript
🌍 EEA Discomap Portal
ArcGIS Earth
Service Description: Nitrogen dioxide (air) 3 consecutive hours in exceedance of 400
Name: AQModelViewer/AQ_8_P1Y_3hAbove400
Description: Nitrogen dioxide (air) 3 consecutive hours in exceedance of 400
Single Fused Map Cache: false
Extent:
XMin: 358471.9754999988
YMin: 5680079.336800002
XMax: 1576371.9754999988
YMax: 7089979.336800002
Spatial Reference: 102100
(3857)
Initial Extent:
XMin: 358471.9754999988
YMin: 5680079.336800002
XMax: 1576371.9754999988
YMax: 7089979.336800002
Spatial Reference: 102100
(3857)
Full Extent:
XMin: 358471.9754999988
YMin: 5680079.336800002
XMax: 1576371.9754999988
YMax: 7089979.336800002
Spatial Reference: 102100
(3857)
Time Info:
Start Time Field: YEAR
End Time Field: YEAR
Time Extent:
[2022/01/01 00:00:00 UTC, 2023/01/01 00:00:00 UTC]
Time Reference:
N/A
Pixel Size X: 100.0
Pixel Size Y: 100.0
Band Count: 1
Pixel Type: F32
RasterFunction Infos: {"rasterFunctionInfos": [
{
"name": "Pollutant Generic",
"description": "Generic raster function for any combination of Pollutant-aggregate. Stretch function is applied based on the statistics of raster values",
"help": ""
},
{
"name": "None",
"description": "Make a Raster or Raster Dataset into a Function Raster Dataset.",
"help": ""
}
]}
Mensuration Capabilities: NONE,Basic
Inspection Capabilities:
Has Histograms: true
Has Colormap: false
Has Multi Dimensions : false
Rendering Rule:
Min Scale: 0
Max Scale: 0
Resampling: false
Copyright Text:
Service Data Type: esriImageServiceDataTypeGeneric
Min Values: 0
Max Values: 32.02000045776367
Mean Values: 7.073764019356772
Standard Deviation Values: 5.618485752013591
Object ID Field: OBJECTID
Fields:
-
OBJECTID
(
type: esriFieldTypeOID, alias: OBJECTID
)
-
Shape
(
type: esriFieldTypeGeometry, alias: Shape
)
-
Name
(
type: esriFieldTypeString, alias: Name, length: 200
)
-
MinPS
(
type: esriFieldTypeDouble, alias: MinPS
)
-
MaxPS
(
type: esriFieldTypeDouble, alias: MaxPS
)
-
LowPS
(
type: esriFieldTypeDouble, alias: LowPS
)
-
HighPS
(
type: esriFieldTypeDouble, alias: HighPS
)
-
Category
(
type: esriFieldTypeInteger, alias: Category
, Coded Values:
[0: Unknown]
, [1: Primary]
, [2: Overview]
, ...6 more...
)
-
Tag
(
type: esriFieldTypeString, alias: Tag, length: 100
)
-
GroupName
(
type: esriFieldTypeString, alias: GroupName, length: 100
)
-
ProductName
(
type: esriFieldTypeString, alias: ProductName, length: 100
)
-
CenterX
(
type: esriFieldTypeDouble, alias: CenterX
)
-
CenterY
(
type: esriFieldTypeDouble, alias: CenterY
)
-
ZOrder
(
type: esriFieldTypeInteger, alias: ZOrder
)
-
Shape_Length
(
type: esriFieldTypeDouble, alias: Shape_Length
)
-
Shape_Area
(
type: esriFieldTypeDouble, alias: Shape_Area
)
-
year
(
type: esriFieldTypeDate, alias: year, length: 8
)
-
pollutant
(
type: esriFieldTypeInteger, alias: pollutant
)
-
agg
(
type: esriFieldTypeString, alias: agg, length: 50
)
-
pollutant_desc
(
type: esriFieldTypeString, alias: pollutant_desc, length: 100
)
-
agg_desc
(
type: esriFieldTypeString, alias: agg_desc, length: 150
)
-
model
(
type: esriFieldTypeString, alias: model, length: 100
)
-
countryCode
(
type: esriFieldTypeString, alias: countryCode, length: 6
)
-
envelope
(
type: esriFieldTypeString, alias: envelope, length: 255
)
-
cDate
(
type: esriFieldTypeDate, alias: cDate, length: 8
)
Default Mosaic Method: ByAttribute
Allowed Mosaic Methods: ByAttribute,NorthWest,Center,LockRaster,Nadir,Viewpoint,Seamline,None
SortField: MaxPS
SortValue: 0
Mosaic Operator: First
Default Compression Quality: 80
Default Resampling Method: Bilinear
Max Record Count: 1000
Max Image Height: 4100
Max Image Width: 15000
Max Download Image Count: 20
Max Mosaic Image Count: 20
Allow Raster Function: true
Allow Copy: true
Allow Analysis: true
Allow Compute TiePoints: false
Supports Statistics: true
Supports Advanced Queries: true
Use StandardizedQueries: false
Raster Type Infos:
Name: Raster Dataset
Description: Supports all ArcGIS Raster Datasets
Help:
Has Raster Attribute Table: false
Edit Fields Info: null
Ownership Based AccessControl For Rasters: null
Child Resources:
Info
Histograms
Statistics
Key Properties
Legend
Raster Function Infos
Supported Operations:
Export Image
Query
Identify
Measure
Compute Histograms
Compute Statistics Histograms
Get Samples
Compute Class Statistics
Query GPS Info
Find Images
Image to Map
Map to Image
Measure from Image
Image to Map Multiray
Query Boundary
Compute Pixel Location
Compute Angles
Validate
Project