View In:
ArcGIS JavaScript
EEA Discomap Portal
ArcGIS Earth
Service Description: Nitrogen oxides (air) Annual mean
Name: AQModelViewer/AQ_9_P1Y
Description: Nitrogen oxides (air) Annual mean
Single Fused Map Cache: false
Extent:
XMin: -5707150.815099999
YMin: 3196614.795900002
XMax: 2689349.1849000007
YMax: 8591014.795900002
Spatial Reference: 102100
(3857)
LatestVCSWkid(0)
Initial Extent:
XMin: -5707150.815099999
YMin: 3196614.795900002
XMax: 2689349.1849000007
YMax: 8591014.795900002
Spatial Reference: 102100
(3857)
LatestVCSWkid(0)
Full Extent:
XMin: -5707150.815099999
YMin: 3196614.795900002
XMax: 2689349.1849000007
YMax: 8591014.795900002
Spatial Reference: 102100
(3857)
LatestVCSWkid(0)
Time Info:
Start Time Field: YEAR
End Time Field: YEAR
Time Extent:
[2015/01/01 00:00:00 UTC, 2024/01/01 00:00:00 UTC]
Time Reference:
N/A
Pixel Size X: 100.0
Pixel Size Y: 100.0
Band Count: 1
Pixel Type: F32
RasterFunction Infos: {"rasterFunctionInfos": [
{
"name": "9_P1Y",
"description": "A raster function template.",
"help": ""
},
{
"name": "Blues continues",
"description": "Blues continues represent ozone",
"help": ""
},
{
"name": "Oranges continues",
"description": "Oragnes continues represent NO2",
"help": ""
},
{
"name": "Purple to green",
"description": "purple to green continues",
"help": ""
},
{
"name": "Red to yellow to green",
"description": "red - yellow -green",
"help": ""
},
{
"name": "Yellow to orange to brown",
"description": "yellow orange brown colors",
"help": ""
},
{
"name": "Yellow to red",
"description": "yellow to red",
"help": ""
},
{
"name": "None",
"description": "Make a Raster or Raster Dataset into a Function Raster Dataset.",
"help": ""
}
]}
Mensuration Capabilities: Basic
Inspection Capabilities:
Has Histograms: true
Has Colormap: false
Has Multi Dimensions : false
Rendering Rule:
Min Scale: 0
Max Scale: 0
Resampling: false
Copyright Text: © European Environment Agency
Service Data Type: esriImageServiceDataTypeGeneric
Min Values: 0
Max Values: 130.88999938964844
Mean Values: 7.835579981598021
Standard Deviation Values: 5.273708908189064
Object ID Field: OBJECTID
Fields:
-
OBJECTID
(
type: esriFieldTypeOID, alias: OBJECTID
)
-
Shape
(
type: esriFieldTypeGeometry, alias: Shape
)
-
Name
(
type: esriFieldTypeString, alias: Name, length: 200
)
-
MinPS
(
type: esriFieldTypeDouble, alias: MinPS
)
-
MaxPS
(
type: esriFieldTypeDouble, alias: MaxPS
)
-
LowPS
(
type: esriFieldTypeDouble, alias: LowPS
)
-
HighPS
(
type: esriFieldTypeDouble, alias: HighPS
)
-
Category
(
type: esriFieldTypeInteger, alias: Category
, Coded Values:
[0: Unknown]
, [1: Primary]
, [2: Overview]
, ...6 more...
)
-
Tag
(
type: esriFieldTypeString, alias: Tag, length: 100
)
-
GroupName
(
type: esriFieldTypeString, alias: GroupName, length: 100
)
-
ProductName
(
type: esriFieldTypeString, alias: ProductName, length: 100
)
-
CenterX
(
type: esriFieldTypeDouble, alias: CenterX
)
-
CenterY
(
type: esriFieldTypeDouble, alias: CenterY
)
-
ZOrder
(
type: esriFieldTypeInteger, alias: ZOrder
)
-
Shape_Length
(
type: esriFieldTypeDouble, alias: Shape_Length
)
-
Shape_Area
(
type: esriFieldTypeDouble, alias: Shape_Area
)
-
year
(
type: esriFieldTypeDate, alias: year, length: 8
)
-
pollutant
(
type: esriFieldTypeInteger, alias: pollutant
)
-
agg
(
type: esriFieldTypeString, alias: agg, length: 50
)
-
pollutant_desc
(
type: esriFieldTypeString, alias: pollutant_desc, length: 100
)
-
agg_desc
(
type: esriFieldTypeString, alias: agg_desc, length: 150
)
-
model
(
type: esriFieldTypeString, alias: model, length: 100
)
-
countryCode
(
type: esriFieldTypeString, alias: countryCode, length: 6
)
-
envelope
(
type: esriFieldTypeString, alias: envelope, length: 255
)
Default Mosaic Method: Northwest
Allowed Mosaic Methods: NorthWest,Center,LockRaster,ByAttribute,Nadir,Viewpoint,Seamline,None
SortField:
SortValue: null
Mosaic Operator: First
Default Compression Quality: 80
Default Resampling Method: Bilinear
Max Record Count: 1000
Max Image Height: 4100
Max Image Width: 15000
Max Download Image Count: 20
Max Mosaic Image Count: 20
Allow Raster Function: true
Allow Copy: true
Allow Analysis: true
Allow Compute TiePoints: false
Supports Statistics: true
Supports Advanced Queries: true
Use StandardizedQueries: false
Raster Type Infos:
Name: Raster Dataset
Description: Supports all ArcGIS Raster Datasets
Help:
Has Raster Attribute Table: false
Edit Fields Info: null
Ownership Based AccessControl For Rasters: null
Child Resources:
Info
Histograms
Statistics
Key Properties
Legend
Raster Function Infos
Supported Operations:
Export Image
Query
Identify
Measure
Compute Histograms
Compute Statistics Histograms
Get Samples
Compute Class Statistics
Query GPS Info
Find Images
Image to Map
Map to Image
Measure from Image
Image to Map Multiray
Query Boundary
Compute Pixel Location
Compute Angles
Validate
Project