View In:
ArcGIS JavaScript
EEA Discomap Portal
ArcGIS Earth
Service Description: EnvHealthAtlas/Europe_disp_inc_2015_tif
Name: EnvHealthAtlas/Europe_disp_inc_2015_tif
Description:
Single Fused Map Cache: false
Extent:
XMin: -31.276249878
YMin: 27.63291674500001
XMax: 40.215416522651
YMax: 71.1412498999613
Spatial Reference: 4326
(4326)
LatestVCSWkid(0)
Initial Extent:
XMin: -31.276249878
YMin: 27.63291674500001
XMax: 40.215416522651
YMax: 71.1412498999613
Spatial Reference: 4326
(4326)
LatestVCSWkid(0)
Full Extent:
XMin: -31.276249878
YMin: 27.63291674500001
XMax: 40.215416522651
YMax: 71.1412498999613
Spatial Reference: 4326
(4326)
LatestVCSWkid(0)
Pixel Size X: 0.008333333302325562
Pixel Size Y: 0.008333333299168988
Band Count: 1
Pixel Type: F32
RasterFunction Infos: {"rasterFunctionInfos": [
{
"name": "Raster Function Template",
"description": "15breaks",
"help": ""
},
{
"name": "None",
"description": "",
"help": ""
}
]}
Mensuration Capabilities: Basic
Inspection Capabilities:
Has Histograms: true
Has Colormap: false
Has Multi Dimensions : false
Rendering Rule:
Min Scale: 0
Max Scale: 0
Resampling: false
Copyright Text:
Service Data Type: esriImageServiceDataTypeGeneric
Min Values: 1462.1673583984
Max Values: 231194.84375
Mean Values: 11794.782888476
Standard Deviation Values: 5322.8768161675
Object ID Field:
Fields:
None
Default Mosaic Method: Center
Allowed Mosaic Methods:
SortField:
SortValue: null
Mosaic Operator: First
Default Compression Quality: 75
Default Resampling Method: Nearest
Max Record Count: null
Max Image Height: 4100
Max Image Width: 15000
Max Download Image Count: null
Max Mosaic Image Count: null
Allow Raster Function: true
Allow Copy: true
Allow Analysis: true
Allow Compute TiePoints: false
Supports Statistics: false
Supports Advanced Queries: false
Use StandardizedQueries: false
Raster Type Infos:
Name: Raster Dataset
Description: Supports all ArcGIS Raster Datasets
Help:
Has Raster Attribute Table: false
Edit Fields Info: null
Ownership Based AccessControl For Rasters: null
Child Resources:
Info
Histograms
Statistics
Key Properties
Legend
Raster Function Infos
Supported Operations:
Export Image
Identify
Measure
Compute Histograms
Compute Statistics Histograms
Get Samples
Compute Class Statistics
Query Boundary
Compute Pixel Location
Compute Angles
Validate
Project