View In:
ArcGIS JavaScript
🌍 EEA Discomap Portal
ArcGIS Earth
Service Description: The map shows the 3 years annual average concentration (2019-2021) of NO2
Nitrogen dioxide (NO₂) and other other nitrogen oxides are hazardous air pollutants commonly found in our cities. They can aggravate respiratory diseases and play a role in forming ozone, another hazardous pollutant at the ground level. The map below shows average concentrations of NO₂ throughout the period 2019-2021, measured in µg/mᵌ. Higher concentrations (orange to red) are more hazardous to our health than lower concentrations (green). Concentrations below 10 µg/mᵌ are considered safe.
Name: EnvHealthAtlas/N02_avg3
Description: The map shows the 3 years annual average concentration (2019-2021) of NO2
Nitrogen dioxide (NO₂) and other other nitrogen oxides are hazardous air pollutants commonly found in our cities. They can aggravate respiratory diseases and play a role in forming ozone, another hazardous pollutant at the ground level. The map below shows average concentrations of NO₂ throughout the period 2019-2021, measured in µg/mᵌ. Higher concentrations (orange to red) are more hazardous to our health than lower concentrations (green). Concentrations below 10 µg/mᵌ are considered safe.
Single Fused Map Cache: false
Extent:
XMin: 2635500
YMin: 1385500
XMax: 6562500
YMax: 5415500
Spatial Reference: 3035
(3035)
Initial Extent:
XMin: 2635500
YMin: 1385500
XMax: 6562500
YMax: 5415500
Spatial Reference: 3035
(3035)
Full Extent:
XMin: 2635500
YMin: 1385500
XMax: 6562500
YMax: 5415500
Spatial Reference: 3035
(3035)
Pixel Size X: 1000.0
Pixel Size Y: 1000.0
Band Count: 1
Pixel Type: F64
RasterFunction Infos: {"rasterFunctionInfos": [
{
"name": "Annual average concentration NO\u2082",
"description": "Annual average concentration NO\u2082",
"help": "Annual average concentration NO\u2082"
},
{
"name": "None",
"description": "",
"help": ""
}
]}
Mensuration Capabilities: Basic
Has Histograms: true
Has Colormap: false
Has Multi Dimensions : false
Rendering Rule:
Min Scale: 0
Max Scale: 0
Copyright Text: © European Environment Agency
Service Data Type: esriImageServiceDataTypeGeneric
Min Values: 0
Max Values: 45.1
Mean Values: 4.890451581144114
Standard Deviation Values: 3.7893358344214754
Object ID Field:
Fields:
None
Default Mosaic Method: Center
Allowed Mosaic Methods:
SortField:
SortValue: null
Mosaic Operator: First
Default Compression Quality: 75
Default Resampling Method: Nearest
Max Record Count: null
Max Image Height: 4100
Max Image Width: 15000
Max Download Image Count: null
Max Mosaic Image Count: null
Allow Raster Function: true
Allow Copy: true
Allow Analysis: true
Allow Compute TiePoints: false
Supports Statistics: false
Supports Advanced Queries: false
Use StandardizedQueries: false
Raster Type Infos:
Name: Raster Dataset
Description: Supports all ArcGIS Raster Datasets
Help:
Has Raster Attribute Table: false
Edit Fields Info: null
Ownership Based AccessControl For Rasters: null
Child Resources:
Info
Histograms
Statistics
Key Properties
Legend
Raster Function Infos
Supported Operations:
Export Image
Identify
Measure
Compute Histograms
Compute Statistics Histograms
Get Samples
Compute Class Statistics
Query Boundary
Compute Pixel Location
Compute Angles
Validate
Project