View In:
ArcGIS JavaScript
EEA Discomap Portal
ArcGIS Earth
Service Description: Available Water Capacity (AWC) for the topsoil fine earth fraction
Name: FISE/AvailableWaterCapacity
Description: Available Water Capacity (AWC) for the topsoil fine earth fraction
Single Fused Map Cache: false
Extent:
XMin: -8035790.590115693
YMin: 2771819.205968708
XMax: 9122209.409884308
YMax: 1.6902319205968708E7
Spatial Reference: 102100
(3857)
LatestVCSWkid(0)
Initial Extent:
XMin: -8035790.590115693
YMin: 2771819.205968708
XMax: 9122209.409884308
YMax: 1.6902319205968708E7
Spatial Reference: 102100
(3857)
LatestVCSWkid(0)
Full Extent:
XMin: -8035790.590115693
YMin: 2771819.205968708
XMax: 9122209.409884308
YMax: 1.6902319205968708E7
Spatial Reference: 102100
(3857)
LatestVCSWkid(0)
Pixel Size X: 500.0
Pixel Size Y: 500.0
Band Count: 1
Pixel Type: F32
RasterFunction Infos: {"rasterFunctionInfos": [
{
"name": "AWC_AM",
"description": "A raster function template.",
"help": ""
},
{
"name": "None",
"description": "",
"help": ""
}
]}
Mensuration Capabilities: Basic
Inspection Capabilities:
Has Histograms: true
Has Colormap: false
Has Multi Dimensions : false
Rendering Rule:
Min Scale: 0
Max Scale: 0
Resampling: false
Copyright Text: Ballabio C., Panagos P., Montanarella L. Mapping topsoil physical properties at European scale using the LUCAS database (2016) Geoderma, 261 , pp. 110-123.
Service Data Type: esriImageServiceDataTypeGeneric
Min Values: 0.024549439549446
Max Values: 0.19166232645512
Mean Values: 0.086407316425537
Standard Deviation Values: 0.019878493830667
Object ID Field:
Fields:
None
Default Mosaic Method: Center
Allowed Mosaic Methods:
SortField:
SortValue: null
Mosaic Operator: First
Default Compression Quality: 75
Default Resampling Method: Nearest
Max Record Count: null
Max Image Height: 4100
Max Image Width: 15000
Max Download Image Count: null
Max Mosaic Image Count: null
Allow Raster Function: true
Allow Copy: true
Allow Analysis: true
Allow Compute TiePoints: false
Supports Statistics: false
Supports Advanced Queries: false
Use StandardizedQueries: false
Raster Type Infos:
Name: Raster Dataset
Description: Supports all ArcGIS Raster Datasets
Help:
Has Raster Attribute Table: false
Edit Fields Info: null
Ownership Based AccessControl For Rasters: null
Child Resources:
Info
Histograms
Statistics
Key Properties
Legend
Raster Function Infos
Supported Operations:
Export Image
Identify
Measure
Compute Histograms
Compute Statistics Histograms
Get Samples
Compute Class Statistics
Query Boundary
Compute Pixel Location
Compute Angles
Validate
Project