View In:
ArcGIS JavaScript
EEA Discomap Portal
ArcGIS Earth
Service Description: Biomass above ground is represented in this map. This dataset comprises estimates of forest above-ground biomass for the year 2020. The data has been produced as part of the European Space Agency's (ESA's) Climate Change Initiative (CCI) programme by the Biomass CCI team.
Name: FISE/Biomass_2020
Description:
Single Fused Map Cache: false
Extent:
XMin: -7030226.3155000005
YMin: -2438466.40834368
XMax: 6215699.2034579925
YMax: 1.14659705537E7
Spatial Reference: 102100
(3857)
LatestVCSWkid(0)
Initial Extent:
XMin: -7030226.3155000005
YMin: -2438466.40834368
XMax: 6215699.2034579925
YMax: 1.14659705537E7
Spatial Reference: 102100
(3857)
LatestVCSWkid(0)
Full Extent:
XMin: -7030226.3155000005
YMin: -2438466.40834368
XMax: 6215699.2034579925
YMax: 1.14659705537E7
Spatial Reference: 102100
(3857)
LatestVCSWkid(0)
Pixel Size X: 98.94987875066667
Pixel Size Y: 98.94987875066667
Band Count: 1
Pixel Type: U16
RasterFunction Infos: {"rasterFunctionInfos": [
{
"name": "Biomass_Green",
"description": "A raster function template.",
"help": ""
},
{
"name": "None",
"description": "",
"help": ""
}
]}
Mensuration Capabilities: Basic
Inspection Capabilities:
Has Histograms: true
Has Colormap: false
Has Multi Dimensions : false
Rendering Rule:
Min Scale: 0
Max Scale: 0
Copyright Text:
Service Data Type: esriImageServiceDataTypeGeneric
Min Values: 1
Max Values: 641
Mean Values: 77.384565140002
Standard Deviation Values: 78.48877436156
Object ID Field:
Fields:
None
Default Mosaic Method: Center
Allowed Mosaic Methods:
SortField:
SortValue: null
Mosaic Operator: First
Default Compression Quality: 75
Default Resampling Method: Bilinear
Max Record Count: null
Max Image Height: 4100
Max Image Width: 15000
Max Download Image Count: null
Max Mosaic Image Count: null
Allow Raster Function: true
Allow Copy: true
Allow Analysis: true
Allow Compute TiePoints: false
Supports Statistics: false
Supports Advanced Queries: false
Use StandardizedQueries: false
Raster Type Infos:
Name: Raster Dataset
Description: Supports all ArcGIS Raster Datasets
Help:
Has Raster Attribute Table: false
Edit Fields Info: null
Ownership Based AccessControl For Rasters: null
Child Resources:
Info
Histograms
Statistics
Key Properties
Legend
Raster Function Infos
Supported Operations:
Export Image
Identify
Measure
Compute Histograms
Compute Statistics Histograms
Get Samples
Compute Class Statistics
Query Boundary
Compute Pixel Location
Compute Angles
Validate
Project