View In:
ArcGIS JavaScript
EEA Discomap Portal
ArcGIS Earth
Service Description: Landscape fragmentation. Data year 2018
Name: FISE/LandscapeFragmentation
Description: Landscape fragmentation.Data year 2018
Single Fused Map Cache: false
Extent:
XMin: -6152620.839033367
YMin: 2850387.7481494807
XMax: 8014379.160966633
YMax: 1.179908774814948E7
Spatial Reference: 102100
(3857)
LatestVCSWkid(0)
Initial Extent:
XMin: -6152620.839033367
YMin: 2850387.7481494807
XMax: 8014379.160966633
YMax: 1.179908774814948E7
Spatial Reference: 102100
(3857)
LatestVCSWkid(0)
Full Extent:
XMin: -6152620.839033367
YMin: 2850387.7481494807
XMax: 8014379.160966633
YMax: 1.179908774814948E7
Spatial Reference: 102100
(3857)
LatestVCSWkid(0)
Pixel Size X: 100.0
Pixel Size Y: 100.0
Band Count: 1
Pixel Type: F32
RasterFunction Infos: {"rasterFunctionInfos": [
{
"name": "FragmentationClassified",
"description": "A raster function template.",
"help": ""
},
{
"name": "None",
"description": "",
"help": ""
}
]}
Mensuration Capabilities: Basic
Inspection Capabilities:
Has Histograms: true
Has Colormap: false
Has Multi Dimensions : false
Rendering Rule:
Min Scale: 0
Max Scale: 0
Copyright Text: Euroean environment Agency
Service Data Type: esriImageServiceDataTypeGeneric
Min Values: 0.012617534026504
Max Values: 100000
Mean Values: 2226.9259326025
Standard Deviation Values: 14512.139603228
Object ID Field:
Fields:
None
Default Mosaic Method: Center
Allowed Mosaic Methods:
SortField:
SortValue: null
Mosaic Operator: First
Default Compression Quality: 75
Default Resampling Method: Bilinear
Max Record Count: null
Max Image Height: 4100
Max Image Width: 15000
Max Download Image Count: null
Max Mosaic Image Count: null
Allow Raster Function: true
Allow Copy: true
Allow Analysis: true
Allow Compute TiePoints: false
Supports Statistics: false
Supports Advanced Queries: false
Use StandardizedQueries: false
Raster Type Infos:
Name: Raster Dataset
Description: Supports all ArcGIS Raster Datasets
Help:
Has Raster Attribute Table: false
Edit Fields Info: null
Ownership Based AccessControl For Rasters: null
Child Resources:
Info
Histograms
Statistics
Key Properties
Legend
Raster Function Infos
Supported Operations:
Export Image
Identify
Measure
Compute Histograms
Compute Statistics Histograms
Get Samples
Compute Class Statistics
Query Boundary
Compute Pixel Location
Compute Angles
Validate
Project