View In:
ArcGIS JavaScript
EEA Discomap Portal
ArcGIS Earth
Service Description: Soil Type. Soil reference group code of the STU from the World Reference Base (WRB) for Soil Resources. Source: https://www.icp-forests.org/pdf/ICPForests_TR2023.pdf
Name: FISE/Soil_Type_WRB
Description: Soil Type. Soil reference group code of the STU from the World Reference Base (WRB) for Soil Resources. Source: https://www.icp-forests.org/pdf/ICPForests_TR2023.pdf
Single Fused Map Cache: false
Extent:
XMin: -1.0463399572621278E7
YMin: -1395544.4133665822
XMax: 1.2337607752940219E7
YMax: 1.890113205733524E7
Spatial Reference: 102100
(3857)
LatestVCSWkid(0)
Initial Extent:
XMin: -1.0463399572621278E7
YMin: -1395544.4133665822
XMax: 1.2337607752940219E7
YMax: 1.890113205733524E7
Spatial Reference: 102100
(3857)
LatestVCSWkid(0)
Full Extent:
XMin: -1.0463399572621278E7
YMin: -1395544.4133665822
XMax: 1.2337607752940219E7
YMax: 1.890113205733524E7
Spatial Reference: 102100
(3857)
LatestVCSWkid(0)
Pixel Size X: 1479.4320870465544
Pixel Size Y: 1925.8635990797818
Band Count: 1
Pixel Type: U8
RasterFunction Infos: {"rasterFunctionInfos": [
{
"name": "SoilTypes_WRBLV1_NB",
"description": "A raster function template.",
"help": ""
},
{
"name": "None",
"description": "Make a Raster or Raster Dataset into a Function Raster Dataset.",
"help": ""
}
]}
Mensuration Capabilities: Basic
Inspection Capabilities:
Has Histograms: false
Has Colormap: false
Has Multi Dimensions : false
Rendering Rule:
Min Scale: 0
Max Scale: 0
Resampling: false
Copyright Text: Panagos, P., Van Liedekerke, M., Borrelli, P., Köninger, J., Ballabio, C., Orgiazzi, A., Lugato, E., Liakos, L., Hervas, J., Jones, A. Montanarella, L. 2022. European Soil Data Centre 2.0: Soil data and knowledge in support of the EU policies. European Journal of Soil Science, 73(6), e13315. DOI: 10.1111/ejss.13315
Service Data Type: esriImageServiceDataTypeThematic
Min Values: 1
Max Values: 30
Mean Values: 16.293123010063
Standard Deviation Values: 6.6334245163708
Object ID Field:
Fields:
None
Default Mosaic Method: Center
Allowed Mosaic Methods:
SortField:
SortValue: null
Mosaic Operator: First
Default Compression Quality: 75
Default Resampling Method: Nearest
Max Record Count: null
Max Image Height: 4100
Max Image Width: 15000
Max Download Image Count: null
Max Mosaic Image Count: null
Allow Raster Function: true
Allow Copy: true
Allow Analysis: true
Allow Compute TiePoints: false
Supports Statistics: false
Supports Advanced Queries: false
Use StandardizedQueries: false
Raster Type Infos:
Name: Raster Dataset
Description: Supports all ArcGIS Raster Datasets
Help:
Has Raster Attribute Table: true
Edit Fields Info: null
Ownership Based AccessControl For Rasters: null
Child Resources:
Info
Raster Attribute Table
Statistics
Key Properties
Legend
Raster Function Infos
Supported Operations:
Export Image
Identify
Measure
Compute Histograms
Compute Statistics Histograms
Get Samples
Compute Class Statistics
Query Boundary
Compute Pixel Location
Compute Angles
Validate
Project